BEGIN:VCALENDAR
VERSION:2.0
PRODID:-//Town of Nekimi, Winnebago County, Wisconsin - ECPv6.15.17.1//NONSGML v1.0//EN
CALSCALE:GREGORIAN
METHOD:PUBLISH
X-ORIGINAL-URL:https://townofnekimi.com
X-WR-CALDESC:Events for Town of Nekimi, Winnebago County, Wisconsin
REFRESH-INTERVAL;VALUE=DURATION:PT1H
X-Robots-Tag:noindex
X-PUBLISHED-TTL:PT1H
BEGIN:VTIMEZONE
TZID:America/Chicago
BEGIN:DAYLIGHT
TZOFFSETFROM:-0600
TZOFFSETTO:-0500
TZNAME:CDT
DTSTART:20180311T080000
END:DAYLIGHT
BEGIN:STANDARD
TZOFFSETFROM:-0500
TZOFFSETTO:-0600
TZNAME:CST
DTSTART:20181104T070000
END:STANDARD
BEGIN:DAYLIGHT
TZOFFSETFROM:-0600
TZOFFSETTO:-0500
TZNAME:CDT
DTSTART:20190310T080000
END:DAYLIGHT
BEGIN:STANDARD
TZOFFSETFROM:-0500
TZOFFSETTO:-0600
TZNAME:CST
DTSTART:20191103T070000
END:STANDARD
BEGIN:DAYLIGHT
TZOFFSETFROM:-0600
TZOFFSETTO:-0500
TZNAME:CDT
DTSTART:20200308T080000
END:DAYLIGHT
BEGIN:STANDARD
TZOFFSETFROM:-0500
TZOFFSETTO:-0600
TZNAME:CST
DTSTART:20201101T070000
END:STANDARD
BEGIN:DAYLIGHT
TZOFFSETFROM:-0600
TZOFFSETTO:-0500
TZNAME:CDT
DTSTART:20210314T080000
END:DAYLIGHT
BEGIN:STANDARD
TZOFFSETFROM:-0500
TZOFFSETTO:-0600
TZNAME:CST
DTSTART:20211107T070000
END:STANDARD
END:VTIMEZONE
BEGIN:VEVENT
DTSTART;TZID=America/Chicago:20200521T180000
DTEND;TZID=America/Chicago:20200521T200000
DTSTAMP:20260423T104903
CREATED:20200510T230446Z
LAST-MODIFIED:20200510T230446Z
UID:1809-1590084000-1590091200@townofnekimi.com
SUMMARY:Board of Review
DESCRIPTION:
URL:https://townofnekimi.com/event/board-of-review-4/
LOCATION:Nekimi Town Hall\, 3790 Pickett Rd\, Oshkosh\, WI\, 54904
END:VEVENT
BEGIN:VEVENT
DTSTART;TZID=America/Chicago:20191113T160000
DTEND;TZID=America/Chicago:20191113T170000
DTSTAMP:20260423T104903
CREATED:20191112T132233Z
LAST-MODIFIED:20191112T132257Z
UID:1709-1573660800-1573664400@townofnekimi.com
SUMMARY:Plan Commission meeting
DESCRIPTION:Town of Nekimi\, Winnebago County \nNotice is hereby given that the Town of Nekimi Plan Commission Meeting will be held at the Nekimi Town Hall\, 3790 Pickett Road\, on November 13\, 2019 at 4:00 P.M.\nAgenda Items listed below. \n	Potratz CSM \n	Yoder CSM
URL:https://townofnekimi.com/event/plan-commission-meeting-8/
LOCATION:Nekimi Town Hall\, 3790 Pickett Rd\, Oshkosh\, WI\, 54904
CATEGORIES:Plan Commission
END:VEVENT
END:VCALENDAR