BEGIN:VCALENDAR
VERSION:2.0
PRODID:-//Town of Nekimi, Winnebago County, Wisconsin - ECPv6.15.17.1//NONSGML v1.0//EN
CALSCALE:GREGORIAN
METHOD:PUBLISH
X-ORIGINAL-URL:https://townofnekimi.com
X-WR-CALDESC:Events for Town of Nekimi, Winnebago County, Wisconsin
REFRESH-INTERVAL;VALUE=DURATION:PT1H
X-Robots-Tag:noindex
X-PUBLISHED-TTL:PT1H
BEGIN:VTIMEZONE
TZID:America/Chicago
BEGIN:DAYLIGHT
TZOFFSETFROM:-0600
TZOFFSETTO:-0500
TZNAME:CDT
DTSTART:20250309T080000
END:DAYLIGHT
BEGIN:STANDARD
TZOFFSETFROM:-0500
TZOFFSETTO:-0600
TZNAME:CST
DTSTART:20251102T070000
END:STANDARD
BEGIN:DAYLIGHT
TZOFFSETFROM:-0600
TZOFFSETTO:-0500
TZNAME:CDT
DTSTART:20260308T080000
END:DAYLIGHT
BEGIN:STANDARD
TZOFFSETFROM:-0500
TZOFFSETTO:-0600
TZNAME:CST
DTSTART:20261101T070000
END:STANDARD
BEGIN:DAYLIGHT
TZOFFSETFROM:-0600
TZOFFSETTO:-0500
TZNAME:CDT
DTSTART:20270314T080000
END:DAYLIGHT
BEGIN:STANDARD
TZOFFSETFROM:-0500
TZOFFSETTO:-0600
TZNAME:CST
DTSTART:20271107T070000
END:STANDARD
END:VTIMEZONE
BEGIN:VEVENT
DTSTART;TZID=America/Chicago:20260519T190000
DTEND;TZID=America/Chicago:20260519T200000
DTSTAMP:20260421T135752
CREATED:20250818T024330Z
LAST-MODIFIED:20250818T024330Z
UID:2959-1779217200-1779220800@townofnekimi.com
SUMMARY:Town Board Meeting
DESCRIPTION:NEKIMI MONTHLY BOARD MEETING \nAGENDA \n  \nOctober 18\, 2025 \n  \n7:00 PM \n  \nCall Town Board Meeting to Order \n  \nApprove September Minutes \n  \nTreasurers Report \n  \nApprove October bills for payment \n  \n       Planning – Zoning: \n                   \n  \n Old Business:  Act on the Following; \n\nRoad Conditions\n\nNew Business: Discuss and/or Act on the Following; \n  \n\nHighway contract\nAmbulance Service\nSale of utility truck\nbudget\n\n  \n  \nFuture agenda items \n 
URL:https://townofnekimi.com/event/town-board-meeting-67/2026-05-19/
CATEGORIES:Town Board
END:VEVENT
END:VCALENDAR